BEGIN:VCALENDAR
VERSION:2.0
PRODID:-//luetzschena-stahmeln.de//NONSGML kigkonsult.se iCalcreator 2.41.71//
CALSCALE:GREGORIAN
METHOD:PUBLISH
UID:33623631-6264-4766-b739-343934633566
X-WR-CALNAME:Lützschena-Stahmeln
X-WR-CALDESC:Terminkalender von Lützschena-Stahmeln
X-WR-RELCALID:182A989F-12D4-36A7-90A8-DD95C910F183
X-WR-TIMEZONE:Europe/Stockholm
BEGIN:VTIMEZONE
TZID:Europe/Stockholm
TZUNTIL:20281029T010000Z
BEGIN:STANDARD
TZNAME:CET
DTSTART:20251026T030000
TZOFFSETFROM:+0200
TZOFFSETTO:+0100
RDATE:20261025T030000
RDATE:20271031T030000
END:STANDARD
BEGIN:DAYLIGHT
TZNAME:CEST
DTSTART:20260329T020000
TZOFFSETFROM:+0100
TZOFFSETTO:+0200
RDATE:20270328T020000
RDATE:20280326T020000
END:DAYLIGHT
END:VTIMEZONE
BEGIN:VEVENT
UID:38613736-3135-4436-b037-633434616366
DTSTAMP:20260422T150434Z
CLASS:PUBLIC
DESCRIPTION:Diplom-Biologe Peter Müller\, Zoodirektor i.R. erzählt spannend
 e Geschichten.
DTSTART;TZID=Europe/Stockholm:20260529T190000
LOCATION:Auwaldstation
SEQUENCE:1
SUMMARY:„Ein ganzes Berufsleben für den Zoo Leipzig“
TRANSP:OPAQUE
END:VEVENT
BEGIN:VEVENT
UID:61343463-3135-4636-b539-353261376665
DTSTAMP:20260422T150434Z
CLASS:PUBLIC
DESCRIPTION:Am 17. Juni lädt die CDU zum Tag für Freiheit und Gerechtigkeit
 “ ein. – Veranstaltung der CDU-Ortsverbände Leipzig–Nord\, Nord-West u. KP
 V
DTSTART;TZID=Europe/Stockholm:20260617T190000
LOCATION:Bismarckturm Lützschena
SEQUENCE:1
SUMMARY:Tag für Freiheit und Gerechtigkeit“ – Veranstaltung der CDU-Ortsver
 bände Leipzig–Nord\, Nord-West u. KPV
TRANSP:OPAQUE
END:VEVENT
BEGIN:VEVENT
UID:36333162-3239-4634-a630-326232656366
DTSTAMP:20260422T150434Z
CLASS:PUBLIC
DESCRIPTION:Seit 1996 findet jedes Jahr am 24. Juni\, dem Johannistag\, ein
 e Sonnenwendfeier am Bismarckturm statt. Traditionell werden dabei die Fla
 mme des Turmes entzündet und auf dem Vorplatz ein Lagerfeuer entfacht. Die
  goodmusic-Band spielt live auf.
DTSTART;TZID=Europe/Stockholm:20260624T180000
LOCATION:Bismarckturm Lützschena
SEQUENCE:1
SUMMARY:Sonnenwendfeier am Bismarckturm
TRANSP:OPAQUE
END:VEVENT
BEGIN:VEVENT
UID:62393134-3935-4830-b961-386332353965
DTSTAMP:20260422T150434Z
CLASS:PUBLIC
DESCRIPTION:Die Rock und Party Band „LE Stagers“ paart musikalisches Können
  mit Charme und Selbstironie und bietet beste Liveunterhaltung mit Rock\, 
 Pop\, Schlager u.v.m.
DTSTART;TZID=Europe/Stockholm:20260628T160000
LOCATION:Auwaldstation
SEQUENCE:1
SUMMARY:Rock und Party Band „LE Stagers“
TRANSP:OPAQUE
END:VEVENT
BEGIN:VEVENT
UID:33613539-3363-4336-a666-626539393763
DTSTAMP:20260422T150434Z
CLASS:PUBLIC
DESCRIPTION:Die Band „Zwei von Fünf“ kommt mit erfrischender Interpretation
  von Ostrock und Deutschrock daher und spielt bekannte Songs von City\, Re
 nft\, Udo Lindenberg\, Gerulf Pannach u.v.a.
DTSTART;TZID=Europe/Stockholm:20260719T160000
LOCATION:Auwaldstation
SEQUENCE:1
SUMMARY:Band „Zwei von Fünf“
TRANSP:OPAQUE
END:VEVENT
BEGIN:VEVENT
UID:35303562-3266-4337-a335-636336373032
DTSTAMP:20260422T150434Z
CLASS:PUBLIC
DESCRIPTION:dargeboten mit Spielfreude\, musikalischer Kompetenz und immer 
 neuen\, überraschenden Facetten
DTSTART;TZID=Europe/Stockholm:20260816T160000
LOCATION:Auwaldstation
SEQUENCE:1
SUMMARY:Old Fair City Stompers - Dixieland mit Tradition und Flair
TRANSP:OPAQUE
END:VEVENT
BEGIN:VEVENT
UID:35363432-3765-4337-a533-643962396631
DTSTAMP:20260422T150434Z
CLASS:PUBLIC
DESCRIPTION:In 2026 findet wieder das Schlossparkfest auf den Wiesen um die
  Auwaldstation statt.
DTSTART;VALUE=DATE:20260906
LOCATION:Auwaldstation
SEQUENCE:1
SUMMARY:Schlossparkfest 2026
TRANSP:OPAQUE
END:VEVENT
BEGIN:VEVENT
UID:36633266-3438-4636-b666-396631393433
DTSTAMP:20260422T150434Z
CLASS:PUBLIC
DESCRIPTION:Anstelle des Staatsanwalts mit fast unaussprechlichen Namen hat
  Buchautor Michael Schuster das Wort. \n                                  
                 Er lädt zu einem unterhaltsamen Ausflug in die Geschichte 
 der DDR-Senderreihe ein\, gewährt                                         
          Einblicke hinter die Kulissen und berichtet über die Menschen vor
  und hinter der Kamera.
DTSTART;TZID=Europe/Stockholm:20260918T190000
LOCATION:Auwaldstation
SEQUENCE:1
SUMMARY:„Der Staatsanwalt hat das Wort“
TRANSP:OPAQUE
END:VEVENT
BEGIN:VEVENT
UID:64616636-3830-4963-b033-633464366231
DTSTAMP:20260422T150434Z
CLASS:PUBLIC
DESCRIPTION:entführt Sie in die faszinierende Welt der einzigartigen Spaßza
 uberei\, bezieht alle Zuschauer aktiv mit ein\, so dass der Abend unverges
 slich wird. -> www.zauberpeter.de\n
DTSTART;TZID=Europe/Stockholm:20261023T190000
LOCATION:Auwaldstation
SEQUENCE:1
SUMMARY:Peter Lissek\, der preisgekrönte Zauberer und Magier ZAUBERPETER
TRANSP:OPAQUE
END:VEVENT
BEGIN:VEVENT
UID:65333236-3236-4033-b566-313236646463
DTSTAMP:20260422T150434Z
CLASS:PUBLIC
DESCRIPTION:Lese-TV-Show mit BEPPO KÜSTER. Lesen\, singen\, lachen\, Zeitge
 schichte – eine lustige Achterbahn-Zeitreise.
DTSTART;TZID=Europe/Stockholm:20261122T160000
LOCATION:Leipziger Hotel\, Saal Erdgeschoß\, Hallesche Straße 190\, Lützsch
 ena
SEQUENCE:1
SUMMARY:„Mein Leben – ein Kessel Buntes“
TRANSP:OPAQUE
END:VEVENT
BEGIN:VEVENT
UID:62633766-6463-4932-b130-626161636136
DTSTAMP:20260422T150434Z
CLASS:PUBLIC
DESCRIPTION:Weihnachtsgeschichten aus aller Welt\; freundlich\, besinnlich\
 , heiter. Dazu Chansons und Instrumentalmusik aus dem Programm 'Rotwein un
 term Dach'\; Ekkehard Friebe (Cello)\, Thomas Bachmann (Konzertgitarre)\n
DTSTART;TZID=Europe/Stockholm:20261211T190000
LOCATION:Auwaldstation
SEQUENCE:1
SUMMARY:„Rotwein unterm Baum“
TRANSP:OPAQUE
END:VEVENT
END:VCALENDAR
